BEGIN:VCALENDAR
VERSION:2.0
PRODID:-//Stopsley Striders - ECPv6.15.20//NONSGML v1.0//EN
CALSCALE:GREGORIAN
METHOD:PUBLISH
X-ORIGINAL-URL:https://www.stopsleystriders.org.uk
X-WR-CALDESC:Events for Stopsley Striders
REFRESH-INTERVAL;VALUE=DURATION:PT1H
X-Robots-Tag:noindex
X-PUBLISHED-TTL:PT1H
BEGIN:VTIMEZONE
TZID:Europe/London
BEGIN:DAYLIGHT
TZOFFSETFROM:+0000
TZOFFSETTO:+0100
TZNAME:BST
DTSTART:20180325T010000
END:DAYLIGHT
BEGIN:STANDARD
TZOFFSETFROM:+0100
TZOFFSETTO:+0000
TZNAME:GMT
DTSTART:20181028T010000
END:STANDARD
BEGIN:DAYLIGHT
TZOFFSETFROM:+0000
TZOFFSETTO:+0100
TZNAME:BST
DTSTART:20190331T010000
END:DAYLIGHT
BEGIN:STANDARD
TZOFFSETFROM:+0100
TZOFFSETTO:+0000
TZNAME:GMT
DTSTART:20191027T010000
END:STANDARD
BEGIN:DAYLIGHT
TZOFFSETFROM:+0000
TZOFFSETTO:+0100
TZNAME:BST
DTSTART:20200329T010000
END:DAYLIGHT
BEGIN:STANDARD
TZOFFSETFROM:+0100
TZOFFSETTO:+0000
TZNAME:GMT
DTSTART:20201025T010000
END:STANDARD
BEGIN:DAYLIGHT
TZOFFSETFROM:+0000
TZOFFSETTO:+0100
TZNAME:BST
DTSTART:20210328T010000
END:DAYLIGHT
BEGIN:STANDARD
TZOFFSETFROM:+0100
TZOFFSETTO:+0000
TZNAME:GMT
DTSTART:20211031T010000
END:STANDARD
BEGIN:DAYLIGHT
TZOFFSETFROM:+0000
TZOFFSETTO:+0100
TZNAME:BST
DTSTART:20220327T010000
END:DAYLIGHT
BEGIN:STANDARD
TZOFFSETFROM:+0100
TZOFFSETTO:+0000
TZNAME:GMT
DTSTART:20221030T010000
END:STANDARD
END:VTIMEZONE
BEGIN:VEVENT
DTSTART;TZID=Europe/London:20211121T100000
DTEND;TZID=Europe/London:20211121T140000
DTSTAMP:20260423T114325
CREATED:20210531T060706Z
LAST-MODIFIED:20210531T060706Z
UID:2619-1637488800-1637503200@www.stopsleystriders.org.uk
SUMMARY:Stevenage Half Marathon
DESCRIPTION:https://stevenagehalfmarathon.org.uk/\n\nhttps://www.facebook.com/StevenageHalfMarathon 
URL:https://www.stopsleystriders.org.uk/event/stevenage-half-marathon-2/
LOCATION:Ridlins Stadium\, Woodcock Road\, Stevenage\, Hertfordshire\, SG2 9QZ\, United Kingdom
CATEGORIES:Half Marathon
END:VEVENT
BEGIN:VEVENT
DTSTART;TZID=Europe/London:20211031T090000
DTEND;TZID=Europe/London:20211031T170000
DTSTAMP:20260423T114325
CREATED:20211027T074212Z
LAST-MODIFIED:20211027T074757Z
UID:2849-1635670800-1635699600@www.stopsleystriders.org.uk
SUMMARY:Love Luton Half Marathon and 10K
DESCRIPTION:Location: Stockwood Park\, Farley Hill\, Luton. LU1 4BH\nStart times: 10K: 09.00 | Half Marathon: 09.15\nDistances: 13.1 miles & 10K\nMinimum Age: Half Marathon – 17yrs | 10K -15yrs (on 31/10/2021)\nActivity: Running\nOpen to: Solo participants\nEntry Fee: Options from just £18 per person\nUKA License No: Applied for\nEvent Cancellation Policy: If this event can no longer go ahead\, and a postponement date isn’t found\, you will be able to donate your entry fee to our chosen charity\, Keech Hospice Care or request a refund of your entry fee. (Booking fees are non-refundable).\nAdditional Fees: A 6% booking fee will be added at the checkout\nEvent Organiser: Love Luton\nOrganiser Email: events@activetrainingworld.co.uk\nOfficial Event Website: Visit the official event website here
URL:https://www.stopsleystriders.org.uk/event/love-luton-half-marathon-and-10k/
LOCATION:Stockwood Park\, United Kingdom
CATEGORIES:10K,Half Marathon
ORGANIZER;CN="Love Luton":MAILTO:events@activetrainingworld.co.uk
END:VEVENT
BEGIN:VEVENT
DTSTART;TZID=Europe/London:20200628T093000
DTEND;TZID=Europe/London:20200628T170000
DTSTAMP:20260423T114325
CREATED:20191231T133358Z
LAST-MODIFIED:20200525T011319Z
UID:1702-1593336600-1593363600@www.stopsleystriders.org.uk
SUMMARY:Hitchin Hard Half - Cancelled
DESCRIPTION:
URL:https://www.stopsleystriders.org.uk/event/hitchin-hard-half-2/
CATEGORIES:10K,5K,Half Marathon
END:VEVENT
BEGIN:VEVENT
DTSTART;TZID=Europe/London:20200614T083000
DTEND;TZID=Europe/London:20200614T170000
DTSTAMP:20260423T114325
CREATED:20191231T132923Z
LAST-MODIFIED:20200331T064120Z
UID:1699-1592123400-1592154000@www.stopsleystriders.org.uk
SUMMARY:St Albans Half Marathon - Cancelled
DESCRIPTION:From https://www.stalbanshalfmarathon.com/ \n  \nIt is with deep regret that due to the Covid-19 pandemic\, we must announce the cancellation of the 2020 St Albans Half Marathon. \nThis has been an incredibly difficult decision for our trustees to make\, but in the current climate we feel this is the most socially responsible solution we could come to. \nThe St Albans Half Marathon is proud to be a charity and we have always donated our profits to charities and organisations in the local area. In order to be able to continue supporting local charities and organisations\, we must make sure that we can continue to operate and raise money into 2021 and beyond. \nUnfortunately\, cancelling this year’s event at this stage is the only option that will allow us to do this. \nWe thank you for your support and understanding and we hope you will continue to support us next year to make 2021 our biggest year yet. \nFor all those that have entered\, we will be sending out an email in the coming days to explain the situation further and give you some options on what to do next. \nMost importantly we hope that yourselves\, your family and friends stay safe and healthy. \nMartin Day\nSt Albans Half Marathon Race Director
URL:https://www.stopsleystriders.org.uk/event/st-albans-half-marathon-2/
CATEGORIES:5K,Half Marathon
END:VEVENT
BEGIN:VEVENT
DTSTART;TZID=Europe/London:20200202T103000
DTEND;TZID=Europe/London:20200202T153000
DTSTAMP:20260423T114325
CREATED:20191230T092354Z
LAST-MODIFIED:20191230T092420Z
UID:1671-1580639400-1580657400@www.stopsleystriders.org.uk
SUMMARY:Watford Half Marathon
DESCRIPTION:Watford Half Marathon\nThe event is organised by Watford Harriers\nTHERE ARE NO ENTRIES ON THE DAY\nLive results available after the first finisher: Eventchiptiming.com/results\n Sun 2nd Feb 2020\, start time 10:30AM
URL:https://www.stopsleystriders.org.uk/event/watford-half-marathon/
CATEGORIES:Half Marathon
END:VEVENT
BEGIN:VEVENT
DTSTART;TZID=Europe/London:20191201T100000
DTEND;TZID=Europe/London:20191201T150000
DTSTAMP:20260423T114325
CREATED:20190917T194206Z
LAST-MODIFIED:20190917T194206Z
UID:1029-1575194400-1575212400@www.stopsleystriders.org.uk
SUMMARY:Bedford Harriers Half Marathon
DESCRIPTION:At a glance: Start time – 10:00am\nEntry limit – 1500\nEntry fees – £23:00 affiliated £25:00 unaffiliated\nRace memento to all finishers\nIncorporating Bedfordshire AAA County Championship\nCash prizes\, age group and team awards \nCourse records:\nMale – Paul Martelletti 1:07:53 2009\nFemale – Tracey Morris 1:16:36 2005 \nChip timing start to finish\nSecure baggage\nCourse measurement certificate no. 15/449\nShowers and changing facilities\nHot & cold refreshments\nSports Hall Race HQ that can accommodate all runners\nMedical provision
URL:https://www.stopsleystriders.org.uk/event/bedford-harriers-half-marathon/
LOCATION:Wootton Upper School & Arts Centre\, Hall End Road\, Wootton\, Bedford\, Bedfordshire\, MK43 9HT\, United Kingdom
CATEGORIES:Half Marathon
END:VEVENT
BEGIN:VEVENT
DTSTART;TZID=Europe/London:20191103T100000
DTEND;TZID=Europe/London:20191103T140000
DTSTAMP:20260423T114325
CREATED:20190923T211609Z
LAST-MODIFIED:20190923T211609Z
UID:1089-1572775200-1572789600@www.stopsleystriders.org.uk
SUMMARY:Stevenage Half Marathon
DESCRIPTION:
URL:https://www.stopsleystriders.org.uk/event/stevenage-half-marathon/
LOCATION:Ridlins Stadium\, Woodcock Road\, Stevenage\, Hertfordshire\, SG2 9QZ\, United Kingdom
CATEGORIES:Half Marathon
END:VEVENT
BEGIN:VEVENT
DTSTART;TZID=Europe/London:20191027T090000
DTEND;TZID=Europe/London:20191027T170000
DTSTAMP:20260423T114325
CREATED:20190817T175134Z
LAST-MODIFIED:20190927T103954Z
UID:931-1572166800-1572195600@www.stopsleystriders.org.uk
SUMMARY:Luton Half Marathon and 10K
DESCRIPTION:
URL:https://www.stopsleystriders.org.uk/event/luton-half-marathon-and-10k/
CATEGORIES:10K,Half Marathon
END:VEVENT
BEGIN:VEVENT
DTSTART;TZID=Europe/London:20190928T090000
DTEND;TZID=Europe/London:20190928T180000
DTSTAMP:20260423T114325
CREATED:20190817T174507Z
LAST-MODIFIED:20190923T220512Z
UID:925-1569661200-1569693600@www.stopsleystriders.org.uk
SUMMARY:MK Autumn Run Half Marathon and 10K
DESCRIPTION:
URL:https://www.stopsleystriders.org.uk/event/mk-autumn-run-half-marathon-and-10k/
CATEGORIES:10K,Half Marathon
END:VEVENT
BEGIN:VEVENT
DTSTART;TZID=Europe/London:20190908T090000
DTEND;TZID=Europe/London:20190908T180000
DTSTAMP:20260423T114325
CREATED:20190817T173955Z
LAST-MODIFIED:20190927T104029Z
UID:919-1567933200-1567965600@www.stopsleystriders.org.uk
SUMMARY:The Beast of Bedford Half Marathon & Triathlon
DESCRIPTION:
URL:https://www.stopsleystriders.org.uk/event/the-beast-of-bedford-half-marathon-triathlon/
CATEGORIES:Half Marathon
END:VEVENT
BEGIN:VEVENT
DTSTART;TZID=Europe/London:20190901T090000
DTEND;TZID=Europe/London:20190901T173000
DTSTAMP:20260423T114325
CREATED:20190817T172640Z
LAST-MODIFIED:20190817T173011Z
UID:914-1567328400-1567359000@www.stopsleystriders.org.uk
SUMMARY:Bedford Half Marathon
DESCRIPTION:
URL:https://www.stopsleystriders.org.uk/event/bedford-half-marathon/
CATEGORIES:Half Marathon
END:VEVENT
BEGIN:VEVENT
DTSTART;TZID=Europe/London:20190901T090000
DTEND;TZID=Europe/London:20190901T160000
DTSTAMP:20260423T114325
CREATED:20190817T173342Z
LAST-MODIFIED:20190817T173404Z
UID:916-1567328400-1567353600@www.stopsleystriders.org.uk
SUMMARY:Dunstable Downs Challenge
DESCRIPTION:
URL:https://www.stopsleystriders.org.uk/event/dunstable-downs-challenge/
LOCATION:Creasey Park
CATEGORIES:Half Marathon,Marathon
END:VEVENT
BEGIN:VEVENT
DTSTART;TZID=Europe/London:20190623T093000
DTEND;TZID=Europe/London:20190623T170000
DTSTAMP:20260423T114325
CREATED:20190606T230558Z
LAST-MODIFIED:20190606T230558Z
UID:151-1561282200-1561309200@www.stopsleystriders.org.uk
SUMMARY:Hitchin Hard Half
DESCRIPTION:
URL:https://www.stopsleystriders.org.uk/event/hitchin-hard-half/
CATEGORIES:Half Marathon
END:VEVENT
BEGIN:VEVENT
DTSTART;TZID=Europe/London:20190609T080000
DTEND;TZID=Europe/London:20190609T170000
DTSTAMP:20260423T114325
CREATED:20190606T230500Z
LAST-MODIFIED:20190606T230500Z
UID:149-1560067200-1560099600@www.stopsleystriders.org.uk
SUMMARY:St Albans Half Marathon
DESCRIPTION:
URL:https://www.stopsleystriders.org.uk/event/st-albans-half-marathon/
CATEGORIES:Half Marathon
END:VEVENT
END:VCALENDAR