BEGIN:VCALENDAR
VERSION:2.0
PRODID:-//Stopsley Striders - ECPv6.15.20//NONSGML v1.0//EN
CALSCALE:GREGORIAN
METHOD:PUBLISH
X-WR-CALNAME:Stopsley Striders
X-ORIGINAL-URL:https://www.stopsleystriders.org.uk
X-WR-CALDESC:Events for Stopsley Striders
REFRESH-INTERVAL;VALUE=DURATION:PT1H
X-Robots-Tag:noindex
X-PUBLISHED-TTL:PT1H
BEGIN:VTIMEZONE
TZID:Europe/London
BEGIN:DAYLIGHT
TZOFFSETFROM:+0000
TZOFFSETTO:+0100
TZNAME:BST
DTSTART:20180325T010000
END:DAYLIGHT
BEGIN:STANDARD
TZOFFSETFROM:+0100
TZOFFSETTO:+0000
TZNAME:GMT
DTSTART:20181028T010000
END:STANDARD
BEGIN:DAYLIGHT
TZOFFSETFROM:+0000
TZOFFSETTO:+0100
TZNAME:BST
DTSTART:20190331T010000
END:DAYLIGHT
BEGIN:STANDARD
TZOFFSETFROM:+0100
TZOFFSETTO:+0000
TZNAME:GMT
DTSTART:20191027T010000
END:STANDARD
BEGIN:DAYLIGHT
TZOFFSETFROM:+0000
TZOFFSETTO:+0100
TZNAME:BST
DTSTART:20200329T010000
END:DAYLIGHT
BEGIN:STANDARD
TZOFFSETFROM:+0100
TZOFFSETTO:+0000
TZNAME:GMT
DTSTART:20201025T010000
END:STANDARD
END:VTIMEZONE
BEGIN:VEVENT
DTSTART;TZID=Europe/London:20190901T090000
DTEND;TZID=Europe/London:20190901T173000
DTSTAMP:20260423T114227
CREATED:20190817T172640Z
LAST-MODIFIED:20190817T173011Z
UID:914-1567328400-1567359000@www.stopsleystriders.org.uk
SUMMARY:Bedford Half Marathon
DESCRIPTION:
URL:https://www.stopsleystriders.org.uk/event/bedford-half-marathon/
CATEGORIES:Half Marathon
END:VEVENT
BEGIN:VEVENT
DTSTART;TZID=Europe/London:20190901T090000
DTEND;TZID=Europe/London:20190901T160000
DTSTAMP:20260423T114227
CREATED:20190817T173342Z
LAST-MODIFIED:20190817T173404Z
UID:916-1567328400-1567353600@www.stopsleystriders.org.uk
SUMMARY:Dunstable Downs Challenge
DESCRIPTION:
URL:https://www.stopsleystriders.org.uk/event/dunstable-downs-challenge/
LOCATION:Creasey Park
CATEGORIES:Half Marathon,Marathon
END:VEVENT
BEGIN:VEVENT
DTSTART;TZID=Europe/London:20190623T093000
DTEND;TZID=Europe/London:20190623T170000
DTSTAMP:20260423T114227
CREATED:20190606T230558Z
LAST-MODIFIED:20190606T230558Z
UID:151-1561282200-1561309200@www.stopsleystriders.org.uk
SUMMARY:Hitchin Hard Half
DESCRIPTION:
URL:https://www.stopsleystriders.org.uk/event/hitchin-hard-half/
CATEGORIES:Half Marathon
END:VEVENT
BEGIN:VEVENT
DTSTART;TZID=Europe/London:20190609T080000
DTEND;TZID=Europe/London:20190609T170000
DTSTAMP:20260423T114227
CREATED:20190606T230500Z
LAST-MODIFIED:20190606T230500Z
UID:149-1560067200-1560099600@www.stopsleystriders.org.uk
SUMMARY:St Albans Half Marathon
DESCRIPTION:
URL:https://www.stopsleystriders.org.uk/event/st-albans-half-marathon/
CATEGORIES:Half Marathon
END:VEVENT
END:VCALENDAR