BEGIN:VCALENDAR
VERSION:2.0
PRODID:-//Stopsley Striders - ECPv6.15.20//NONSGML v1.0//EN
CALSCALE:GREGORIAN
METHOD:PUBLISH
X-WR-CALNAME:Stopsley Striders
X-ORIGINAL-URL:https://www.stopsleystriders.org.uk
X-WR-CALDESC:Events for Stopsley Striders
REFRESH-INTERVAL;VALUE=DURATION:PT1H
X-Robots-Tag:noindex
X-PUBLISHED-TTL:PT1H
BEGIN:VTIMEZONE
TZID:Europe/London
BEGIN:DAYLIGHT
TZOFFSETFROM:+0000
TZOFFSETTO:+0100
TZNAME:BST
DTSTART:20200329T010000
END:DAYLIGHT
BEGIN:STANDARD
TZOFFSETFROM:+0100
TZOFFSETTO:+0000
TZNAME:GMT
DTSTART:20201025T010000
END:STANDARD
BEGIN:DAYLIGHT
TZOFFSETFROM:+0000
TZOFFSETTO:+0100
TZNAME:BST
DTSTART:20210328T010000
END:DAYLIGHT
BEGIN:STANDARD
TZOFFSETFROM:+0100
TZOFFSETTO:+0000
TZNAME:GMT
DTSTART:20211031T010000
END:STANDARD
BEGIN:DAYLIGHT
TZOFFSETFROM:+0000
TZOFFSETTO:+0100
TZNAME:BST
DTSTART:20220327T010000
END:DAYLIGHT
BEGIN:STANDARD
TZOFFSETFROM:+0100
TZOFFSETTO:+0000
TZNAME:GMT
DTSTART:20221030T010000
END:STANDARD
END:VTIMEZONE
BEGIN:VEVENT
DTSTART;TZID=Europe/London:20211104T193000
DTEND;TZID=Europe/London:20211104T220000
DTSTAMP:20260423T094944
CREATED:20211015T083728Z
LAST-MODIFIED:20211015T083728Z
UID:2828-1636054200-1636063200@www.stopsleystriders.org.uk
SUMMARY:Stopsley Striders AGM
DESCRIPTION:Bar opens at 19:00 \nMeeting to start at 19:30
URL:https://www.stopsleystriders.org.uk/event/stopsley-striders-agm-2/
LOCATION:Crawley Green Sports Club\, Crawley Green Road\, Luton
CATEGORIES:Meeting
END:VEVENT
END:VCALENDAR