BEGIN:VCALENDAR
VERSION:2.0
PRODID:-//Stopsley Striders - ECPv6.15.20//NONSGML v1.0//EN
CALSCALE:GREGORIAN
METHOD:PUBLISH
X-WR-CALNAME:Stopsley Striders
X-ORIGINAL-URL:https://www.stopsleystriders.org.uk
X-WR-CALDESC:Events for Stopsley Striders
REFRESH-INTERVAL;VALUE=DURATION:PT1H
X-Robots-Tag:noindex
X-PUBLISHED-TTL:PT1H
BEGIN:VTIMEZONE
TZID:Europe/London
BEGIN:DAYLIGHT
TZOFFSETFROM:+0000
TZOFFSETTO:+0100
TZNAME:BST
DTSTART:20230326T010000
END:DAYLIGHT
BEGIN:STANDARD
TZOFFSETFROM:+0100
TZOFFSETTO:+0000
TZNAME:GMT
DTSTART:20231029T010000
END:STANDARD
BEGIN:DAYLIGHT
TZOFFSETFROM:+0000
TZOFFSETTO:+0100
TZNAME:BST
DTSTART:20240331T010000
END:DAYLIGHT
BEGIN:STANDARD
TZOFFSETFROM:+0100
TZOFFSETTO:+0000
TZNAME:GMT
DTSTART:20241027T010000
END:STANDARD
BEGIN:DAYLIGHT
TZOFFSETFROM:+0000
TZOFFSETTO:+0100
TZNAME:BST
DTSTART:20250330T010000
END:DAYLIGHT
BEGIN:STANDARD
TZOFFSETFROM:+0100
TZOFFSETTO:+0000
TZNAME:GMT
DTSTART:20251026T010000
END:STANDARD
BEGIN:DAYLIGHT
TZOFFSETFROM:+0000
TZOFFSETTO:+0100
TZNAME:BST
DTSTART:20260329T010000
END:DAYLIGHT
BEGIN:STANDARD
TZOFFSETFROM:+0100
TZOFFSETTO:+0000
TZNAME:GMT
DTSTART:20261025T010000
END:STANDARD
END:VTIMEZONE
BEGIN:VEVENT
DTSTART;TZID=Europe/London:20250311T192000
DTEND;TZID=Europe/London:20250311T203000
DTSTAMP:20260423T114243
CREATED:20231004T152752Z
LAST-MODIFIED:20231004T152752Z
UID:5094-1741720800-1741725000@www.stopsleystriders.org.uk
SUMMARY:Tuesday Track Coached Session for all abilities
DESCRIPTION:Cost per session £3. There will be no refunds if you can‘t attend.Payment is collected on Spond (when this session becomes available)\nPlease maintain social distancing.\nNo ICE Card\, No Session.\nWarm up and cool down are included in track sessions.\nThe coach cannot hold anything for you.\nPlease do not attend if you have COVID-19 symptoms or have been told to isolate.
URL:https://www.stopsleystriders.org.uk/event/tuesday-track-coached-session-for-all-abilities-146/
LOCATION:Stockwood Park\, United Kingdom
CATEGORIES:Track
END:VEVENT
BEGIN:VEVENT
DTSTART;TZID=Europe/London:20250304T192000
DTEND;TZID=Europe/London:20250304T203000
DTSTAMP:20260423T114243
CREATED:20231004T152752Z
LAST-MODIFIED:20231004T152752Z
UID:5093-1741116000-1741120200@www.stopsleystriders.org.uk
SUMMARY:Tuesday Track Coached Session for all abilities
DESCRIPTION:Cost per session £3. There will be no refunds if you can‘t attend.Payment is collected on Spond (when this session becomes available)\nPlease maintain social distancing.\nNo ICE Card\, No Session.\nWarm up and cool down are included in track sessions.\nThe coach cannot hold anything for you.\nPlease do not attend if you have COVID-19 symptoms or have been told to isolate.
URL:https://www.stopsleystriders.org.uk/event/tuesday-track-coached-session-for-all-abilities-145/
LOCATION:Stockwood Park\, United Kingdom
CATEGORIES:Track
END:VEVENT
BEGIN:VEVENT
DTSTART;TZID=Europe/London:20250225T192000
DTEND;TZID=Europe/London:20250225T203000
DTSTAMP:20260423T114243
CREATED:20231004T152752Z
LAST-MODIFIED:20231004T152752Z
UID:5092-1740511200-1740515400@www.stopsleystriders.org.uk
SUMMARY:Tuesday Track Coached Session for all abilities
DESCRIPTION:Cost per session £3. There will be no refunds if you can‘t attend.Payment is collected on Spond (when this session becomes available)\nPlease maintain social distancing.\nNo ICE Card\, No Session.\nWarm up and cool down are included in track sessions.\nThe coach cannot hold anything for you.\nPlease do not attend if you have COVID-19 symptoms or have been told to isolate.
URL:https://www.stopsleystriders.org.uk/event/tuesday-track-coached-session-for-all-abilities-144/
LOCATION:Stockwood Park\, United Kingdom
CATEGORIES:Track
END:VEVENT
BEGIN:VEVENT
DTSTART;TZID=Europe/London:20250218T192000
DTEND;TZID=Europe/London:20250218T203000
DTSTAMP:20260423T114243
CREATED:20231004T152752Z
LAST-MODIFIED:20231004T152752Z
UID:5091-1739906400-1739910600@www.stopsleystriders.org.uk
SUMMARY:Tuesday Track Coached Session for all abilities
DESCRIPTION:Cost per session £3. There will be no refunds if you can‘t attend.Payment is collected on Spond (when this session becomes available)\nPlease maintain social distancing.\nNo ICE Card\, No Session.\nWarm up and cool down are included in track sessions.\nThe coach cannot hold anything for you.\nPlease do not attend if you have COVID-19 symptoms or have been told to isolate.
URL:https://www.stopsleystriders.org.uk/event/tuesday-track-coached-session-for-all-abilities-143/
LOCATION:Stockwood Park\, United Kingdom
CATEGORIES:Track
END:VEVENT
BEGIN:VEVENT
DTSTART;TZID=Europe/London:20250211T192000
DTEND;TZID=Europe/London:20250211T203000
DTSTAMP:20260423T114243
CREATED:20231004T152721Z
LAST-MODIFIED:20231004T152721Z
UID:5090-1739301600-1739305800@www.stopsleystriders.org.uk
SUMMARY:Tuesday Track Coached Session for all abilities
DESCRIPTION:Cost per session £3. There will be no refunds if you can‘t attend.Payment is collected on Spond (when this session becomes available)\nPlease maintain social distancing.\nNo ICE Card\, No Session.\nWarm up and cool down are included in track sessions.\nThe coach cannot hold anything for you.\nPlease do not attend if you have COVID-19 symptoms or have been told to isolate.
URL:https://www.stopsleystriders.org.uk/event/tuesday-track-coached-session-for-all-abilities-142/
LOCATION:Stockwood Park\, United Kingdom
CATEGORIES:Track
END:VEVENT
BEGIN:VEVENT
DTSTART;TZID=Europe/London:20250204T192000
DTEND;TZID=Europe/London:20250204T203000
DTSTAMP:20260423T114243
CREATED:20231004T152720Z
LAST-MODIFIED:20231004T152720Z
UID:5089-1738696800-1738701000@www.stopsleystriders.org.uk
SUMMARY:Tuesday Track Coached Session for all abilities
DESCRIPTION:Cost per session £3. There will be no refunds if you can‘t attend.Payment is collected on Spond (when this session becomes available)\nPlease maintain social distancing.\nNo ICE Card\, No Session.\nWarm up and cool down are included in track sessions.\nThe coach cannot hold anything for you.\nPlease do not attend if you have COVID-19 symptoms or have been told to isolate.
URL:https://www.stopsleystriders.org.uk/event/tuesday-track-coached-session-for-all-abilities-141/
LOCATION:Stockwood Park\, United Kingdom
CATEGORIES:Track
END:VEVENT
BEGIN:VEVENT
DTSTART;TZID=Europe/London:20250128T192000
DTEND;TZID=Europe/London:20250128T203000
DTSTAMP:20260423T114243
CREATED:20231004T152720Z
LAST-MODIFIED:20231004T152720Z
UID:5088-1738092000-1738096200@www.stopsleystriders.org.uk
SUMMARY:Tuesday Track Coached Session for all abilities
DESCRIPTION:Cost per session £3. There will be no refunds if you can‘t attend.Payment is collected on Spond (when this session becomes available)\nPlease maintain social distancing.\nNo ICE Card\, No Session.\nWarm up and cool down are included in track sessions.\nThe coach cannot hold anything for you.\nPlease do not attend if you have COVID-19 symptoms or have been told to isolate.
URL:https://www.stopsleystriders.org.uk/event/tuesday-track-coached-session-for-all-abilities-140/
LOCATION:Stockwood Park\, United Kingdom
CATEGORIES:Track
END:VEVENT
BEGIN:VEVENT
DTSTART;TZID=Europe/London:20250121T192000
DTEND;TZID=Europe/London:20250121T203000
DTSTAMP:20260423T114243
CREATED:20231004T152720Z
LAST-MODIFIED:20231004T152720Z
UID:5087-1737487200-1737491400@www.stopsleystriders.org.uk
SUMMARY:Tuesday Track Coached Session for all abilities
DESCRIPTION:Cost per session £3. There will be no refunds if you can‘t attend.Payment is collected on Spond (when this session becomes available)\nPlease maintain social distancing.\nNo ICE Card\, No Session.\nWarm up and cool down are included in track sessions.\nThe coach cannot hold anything for you.\nPlease do not attend if you have COVID-19 symptoms or have been told to isolate.
URL:https://www.stopsleystriders.org.uk/event/tuesday-track-coached-session-for-all-abilities-139/
LOCATION:Stockwood Park\, United Kingdom
CATEGORIES:Track
END:VEVENT
BEGIN:VEVENT
DTSTART;TZID=Europe/London:20250114T192000
DTEND;TZID=Europe/London:20250114T203000
DTSTAMP:20260423T114243
CREATED:20231004T152720Z
LAST-MODIFIED:20231004T152720Z
UID:5086-1736882400-1736886600@www.stopsleystriders.org.uk
SUMMARY:Tuesday Track Coached Session for all abilities
DESCRIPTION:Cost per session £3. There will be no refunds if you can‘t attend.Payment is collected on Spond (when this session becomes available)\nPlease maintain social distancing.\nNo ICE Card\, No Session.\nWarm up and cool down are included in track sessions.\nThe coach cannot hold anything for you.\nPlease do not attend if you have COVID-19 symptoms or have been told to isolate.
URL:https://www.stopsleystriders.org.uk/event/tuesday-track-coached-session-for-all-abilities-138/
LOCATION:Stockwood Park\, United Kingdom
CATEGORIES:Track
END:VEVENT
BEGIN:VEVENT
DTSTART;TZID=Europe/London:20250107T192000
DTEND;TZID=Europe/London:20250107T203000
DTSTAMP:20260423T114243
CREATED:20231004T152706Z
LAST-MODIFIED:20231004T152706Z
UID:5085-1736277600-1736281800@www.stopsleystriders.org.uk
SUMMARY:Tuesday Track Coached Session for all abilities
DESCRIPTION:Cost per session £3. There will be no refunds if you can‘t attend.Payment is collected on Spond (when this session becomes available)\nPlease maintain social distancing.\nNo ICE Card\, No Session.\nWarm up and cool down are included in track sessions.\nThe coach cannot hold anything for you.\nPlease do not attend if you have COVID-19 symptoms or have been told to isolate.
URL:https://www.stopsleystriders.org.uk/event/tuesday-track-coached-session-for-all-abilities-137/
LOCATION:Stockwood Park\, United Kingdom
CATEGORIES:Track
END:VEVENT
BEGIN:VEVENT
DTSTART;TZID=Europe/London:20241231T192000
DTEND;TZID=Europe/London:20241231T203000
DTSTAMP:20260423T114243
CREATED:20231004T152705Z
LAST-MODIFIED:20241224T171205Z
UID:5084-1735672800-1735677000@www.stopsleystriders.org.uk
SUMMARY:Tuesday Track Coached Session for all abilities
DESCRIPTION:Cost per session £3. There will be no refunds if you can‘t attend.Payment is collected on Spond (when this session becomes available)\nPlease maintain social distancing.\nNo ICE Card\, No Session.\nWarm up and cool down are included in track sessions.\nThe coach cannot hold anything for you.\nPlease do not attend if you have COVID-19 symptoms or have been told to isolate.
URL:https://www.stopsleystriders.org.uk/event/tuesday-track-coached-session-for-all-abilities-136/
LOCATION:Stockwood Park\, United Kingdom
CATEGORIES:Track
END:VEVENT
BEGIN:VEVENT
DTSTART;TZID=Europe/London:20241224T192000
DTEND;TZID=Europe/London:20241224T203000
DTSTAMP:20260423T114243
CREATED:20231004T152705Z
LAST-MODIFIED:20241224T170506Z
UID:5083-1735068000-1735072200@www.stopsleystriders.org.uk
SUMMARY:Tuesday Track Coached Session for all abilities
DESCRIPTION:Cost per session £3. There will be no refunds if you can‘t attend.Payment is collected on Spond (when this session becomes available)\nPlease maintain social distancing.\nNo ICE Card\, No Session.\nWarm up and cool down are included in track sessions.\nThe coach cannot hold anything for you.\nPlease do not attend if you have COVID-19 symptoms or have been told to isolate.
URL:https://www.stopsleystriders.org.uk/event/tuesday-track-coached-session-for-all-abilities-135/
LOCATION:Stockwood Park\, United Kingdom
CATEGORIES:Track
END:VEVENT
BEGIN:VEVENT
DTSTART;TZID=Europe/London:20241217T192000
DTEND;TZID=Europe/London:20241217T203000
DTSTAMP:20260423T114243
CREATED:20231004T152705Z
LAST-MODIFIED:20231004T152705Z
UID:5082-1734463200-1734467400@www.stopsleystriders.org.uk
SUMMARY:Tuesday Track Coached Session for all abilities
DESCRIPTION:Cost per session £3. There will be no refunds if you can‘t attend.Payment is collected on Spond (when this session becomes available)\nPlease maintain social distancing.\nNo ICE Card\, No Session.\nWarm up and cool down are included in track sessions.\nThe coach cannot hold anything for you.\nPlease do not attend if you have COVID-19 symptoms or have been told to isolate.
URL:https://www.stopsleystriders.org.uk/event/tuesday-track-coached-session-for-all-abilities-134/
LOCATION:Stockwood Park\, United Kingdom
CATEGORIES:Track
END:VEVENT
BEGIN:VEVENT
DTSTART;TZID=Europe/London:20241210T192000
DTEND;TZID=Europe/London:20241210T203000
DTSTAMP:20260423T114243
CREATED:20231004T152705Z
LAST-MODIFIED:20231004T152705Z
UID:5081-1733858400-1733862600@www.stopsleystriders.org.uk
SUMMARY:Tuesday Track Coached Session for all abilities
DESCRIPTION:Cost per session £3. There will be no refunds if you can‘t attend.Payment is collected on Spond (when this session becomes available)\nPlease maintain social distancing.\nNo ICE Card\, No Session.\nWarm up and cool down are included in track sessions.\nThe coach cannot hold anything for you.\nPlease do not attend if you have COVID-19 symptoms or have been told to isolate.
URL:https://www.stopsleystriders.org.uk/event/tuesday-track-coached-session-for-all-abilities-133/
LOCATION:Stockwood Park\, United Kingdom
CATEGORIES:Track
END:VEVENT
BEGIN:VEVENT
DTSTART;TZID=Europe/London:20241203T192000
DTEND;TZID=Europe/London:20241203T203000
DTSTAMP:20260423T114243
CREATED:20231004T152651Z
LAST-MODIFIED:20231004T152651Z
UID:5080-1733253600-1733257800@www.stopsleystriders.org.uk
SUMMARY:Tuesday Track Coached Session for all abilities
DESCRIPTION:Cost per session £3. There will be no refunds if you can‘t attend.Payment is collected on Spond (when this session becomes available)\nPlease maintain social distancing.\nNo ICE Card\, No Session.\nWarm up and cool down are included in track sessions.\nThe coach cannot hold anything for you.\nPlease do not attend if you have COVID-19 symptoms or have been told to isolate.
URL:https://www.stopsleystriders.org.uk/event/tuesday-track-coached-session-for-all-abilities-132/
LOCATION:Stockwood Park\, United Kingdom
CATEGORIES:Track
END:VEVENT
BEGIN:VEVENT
DTSTART;TZID=Europe/London:20241126T192000
DTEND;TZID=Europe/London:20241126T203000
DTSTAMP:20260423T114243
CREATED:20231004T152650Z
LAST-MODIFIED:20231004T152650Z
UID:5079-1732648800-1732653000@www.stopsleystriders.org.uk
SUMMARY:Tuesday Track Coached Session for all abilities
DESCRIPTION:Cost per session £3. There will be no refunds if you can‘t attend.Payment is collected on Spond (when this session becomes available)\nPlease maintain social distancing.\nNo ICE Card\, No Session.\nWarm up and cool down are included in track sessions.\nThe coach cannot hold anything for you.\nPlease do not attend if you have COVID-19 symptoms or have been told to isolate.
URL:https://www.stopsleystriders.org.uk/event/tuesday-track-coached-session-for-all-abilities-131/
LOCATION:Stockwood Park\, United Kingdom
CATEGORIES:Track
END:VEVENT
BEGIN:VEVENT
DTSTART;TZID=Europe/London:20241119T192000
DTEND;TZID=Europe/London:20241119T203000
DTSTAMP:20260423T114243
CREATED:20231004T152650Z
LAST-MODIFIED:20231004T152650Z
UID:5078-1732044000-1732048200@www.stopsleystriders.org.uk
SUMMARY:Tuesday Track Coached Session for all abilities
DESCRIPTION:Cost per session £3. There will be no refunds if you can‘t attend.Payment is collected on Spond (when this session becomes available)\nPlease maintain social distancing.\nNo ICE Card\, No Session.\nWarm up and cool down are included in track sessions.\nThe coach cannot hold anything for you.\nPlease do not attend if you have COVID-19 symptoms or have been told to isolate.
URL:https://www.stopsleystriders.org.uk/event/tuesday-track-coached-session-for-all-abilities-130/
LOCATION:Stockwood Park\, United Kingdom
CATEGORIES:Track
END:VEVENT
BEGIN:VEVENT
DTSTART;TZID=Europe/London:20241112T192000
DTEND;TZID=Europe/London:20241112T203000
DTSTAMP:20260423T114243
CREATED:20231004T152650Z
LAST-MODIFIED:20231004T152650Z
UID:5077-1731439200-1731443400@www.stopsleystriders.org.uk
SUMMARY:Tuesday Track Coached Session for all abilities
DESCRIPTION:Cost per session £3. There will be no refunds if you can‘t attend.Payment is collected on Spond (when this session becomes available)\nPlease maintain social distancing.\nNo ICE Card\, No Session.\nWarm up and cool down are included in track sessions.\nThe coach cannot hold anything for you.\nPlease do not attend if you have COVID-19 symptoms or have been told to isolate.
URL:https://www.stopsleystriders.org.uk/event/tuesday-track-coached-session-for-all-abilities-129/
LOCATION:Stockwood Park\, United Kingdom
CATEGORIES:Track
END:VEVENT
BEGIN:VEVENT
DTSTART;TZID=Europe/London:20241105T192000
DTEND;TZID=Europe/London:20241105T203000
DTSTAMP:20260423T114243
CREATED:20231004T152650Z
LAST-MODIFIED:20231004T152650Z
UID:5076-1730834400-1730838600@www.stopsleystriders.org.uk
SUMMARY:Tuesday Track Coached Session for all abilities
DESCRIPTION:Cost per session £3. There will be no refunds if you can‘t attend.Payment is collected on Spond (when this session becomes available)\nPlease maintain social distancing.\nNo ICE Card\, No Session.\nWarm up and cool down are included in track sessions.\nThe coach cannot hold anything for you.\nPlease do not attend if you have COVID-19 symptoms or have been told to isolate.
URL:https://www.stopsleystriders.org.uk/event/tuesday-track-coached-session-for-all-abilities-128/
LOCATION:Stockwood Park\, United Kingdom
CATEGORIES:Track
END:VEVENT
BEGIN:VEVENT
DTSTART;TZID=Europe/London:20241029T192000
DTEND;TZID=Europe/London:20241029T203000
DTSTAMP:20260423T114243
CREATED:20231004T152636Z
LAST-MODIFIED:20231004T152636Z
UID:5075-1730229600-1730233800@www.stopsleystriders.org.uk
SUMMARY:Tuesday Track Coached Session for all abilities
DESCRIPTION:Cost per session £3. There will be no refunds if you can‘t attend.Payment is collected on Spond (when this session becomes available)\nPlease maintain social distancing.\nNo ICE Card\, No Session.\nWarm up and cool down are included in track sessions.\nThe coach cannot hold anything for you.\nPlease do not attend if you have COVID-19 symptoms or have been told to isolate.
URL:https://www.stopsleystriders.org.uk/event/tuesday-track-coached-session-for-all-abilities-127/
LOCATION:Stockwood Park\, United Kingdom
CATEGORIES:Track
END:VEVENT
BEGIN:VEVENT
DTSTART;TZID=Europe/London:20241022T192000
DTEND;TZID=Europe/London:20241022T203000
DTSTAMP:20260423T114243
CREATED:20231004T152635Z
LAST-MODIFIED:20231004T152635Z
UID:5074-1729624800-1729629000@www.stopsleystriders.org.uk
SUMMARY:Tuesday Track Coached Session for all abilities
DESCRIPTION:Cost per session £3. There will be no refunds if you can‘t attend.Payment is collected on Spond (when this session becomes available)\nPlease maintain social distancing.\nNo ICE Card\, No Session.\nWarm up and cool down are included in track sessions.\nThe coach cannot hold anything for you.\nPlease do not attend if you have COVID-19 symptoms or have been told to isolate.
URL:https://www.stopsleystriders.org.uk/event/tuesday-track-coached-session-for-all-abilities-126/
LOCATION:Stockwood Park\, United Kingdom
CATEGORIES:Track
END:VEVENT
BEGIN:VEVENT
DTSTART;TZID=Europe/London:20241015T192000
DTEND;TZID=Europe/London:20241015T203000
DTSTAMP:20260423T114243
CREATED:20231004T152635Z
LAST-MODIFIED:20231004T152635Z
UID:5073-1729020000-1729024200@www.stopsleystriders.org.uk
SUMMARY:Tuesday Track Coached Session for all abilities
DESCRIPTION:Cost per session £3. There will be no refunds if you can‘t attend.Payment is collected on Spond (when this session becomes available)\nPlease maintain social distancing.\nNo ICE Card\, No Session.\nWarm up and cool down are included in track sessions.\nThe coach cannot hold anything for you.\nPlease do not attend if you have COVID-19 symptoms or have been told to isolate.
URL:https://www.stopsleystriders.org.uk/event/tuesday-track-coached-session-for-all-abilities-125/
LOCATION:Stockwood Park\, United Kingdom
CATEGORIES:Track
END:VEVENT
BEGIN:VEVENT
DTSTART;TZID=Europe/London:20241008T192000
DTEND;TZID=Europe/London:20241008T203000
DTSTAMP:20260423T114243
CREATED:20231004T152635Z
LAST-MODIFIED:20231004T152635Z
UID:5072-1728415200-1728419400@www.stopsleystriders.org.uk
SUMMARY:Tuesday Track Coached Session for all abilities
DESCRIPTION:Cost per session £3. There will be no refunds if you can‘t attend.Payment is collected on Spond (when this session becomes available)\nPlease maintain social distancing.\nNo ICE Card\, No Session.\nWarm up and cool down are included in track sessions.\nThe coach cannot hold anything for you.\nPlease do not attend if you have COVID-19 symptoms or have been told to isolate.
URL:https://www.stopsleystriders.org.uk/event/tuesday-track-coached-session-for-all-abilities-124/
LOCATION:Stockwood Park\, United Kingdom
CATEGORIES:Track
END:VEVENT
BEGIN:VEVENT
DTSTART;TZID=Europe/London:20241001T192000
DTEND;TZID=Europe/London:20241001T203000
DTSTAMP:20260423T114243
CREATED:20231004T152635Z
LAST-MODIFIED:20231004T152635Z
UID:5071-1727810400-1727814600@www.stopsleystriders.org.uk
SUMMARY:Tuesday Track Coached Session for all abilities
DESCRIPTION:Cost per session £3. There will be no refunds if you can‘t attend.Payment is collected on Spond (when this session becomes available)\nPlease maintain social distancing.\nNo ICE Card\, No Session.\nWarm up and cool down are included in track sessions.\nThe coach cannot hold anything for you.\nPlease do not attend if you have COVID-19 symptoms or have been told to isolate.
URL:https://www.stopsleystriders.org.uk/event/tuesday-track-coached-session-for-all-abilities-123/
LOCATION:Stockwood Park\, United Kingdom
CATEGORIES:Track
END:VEVENT
BEGIN:VEVENT
DTSTART;TZID=Europe/London:20240924T192000
DTEND;TZID=Europe/London:20240924T203000
DTSTAMP:20260423T114243
CREATED:20231004T152621Z
LAST-MODIFIED:20231004T152621Z
UID:5070-1727205600-1727209800@www.stopsleystriders.org.uk
SUMMARY:Tuesday Track Coached Session for all abilities
DESCRIPTION:Cost per session £3. There will be no refunds if you can‘t attend.Payment is collected on Spond (when this session becomes available)\nPlease maintain social distancing.\nNo ICE Card\, No Session.\nWarm up and cool down are included in track sessions.\nThe coach cannot hold anything for you.\nPlease do not attend if you have COVID-19 symptoms or have been told to isolate.
URL:https://www.stopsleystriders.org.uk/event/tuesday-track-coached-session-for-all-abilities-122/
LOCATION:Stockwood Park\, United Kingdom
CATEGORIES:Track
END:VEVENT
BEGIN:VEVENT
DTSTART;TZID=Europe/London:20240917T192000
DTEND;TZID=Europe/London:20240917T203000
DTSTAMP:20260423T114243
CREATED:20231004T152620Z
LAST-MODIFIED:20231004T152620Z
UID:5069-1726600800-1726605000@www.stopsleystriders.org.uk
SUMMARY:Tuesday Track Coached Session for all abilities
DESCRIPTION:Cost per session £3. There will be no refunds if you can‘t attend.Payment is collected on Spond (when this session becomes available)\nPlease maintain social distancing.\nNo ICE Card\, No Session.\nWarm up and cool down are included in track sessions.\nThe coach cannot hold anything for you.\nPlease do not attend if you have COVID-19 symptoms or have been told to isolate.
URL:https://www.stopsleystriders.org.uk/event/tuesday-track-coached-session-for-all-abilities-121/
LOCATION:Stockwood Park\, United Kingdom
CATEGORIES:Track
END:VEVENT
BEGIN:VEVENT
DTSTART;TZID=Europe/London:20240910T192000
DTEND;TZID=Europe/London:20240910T203000
DTSTAMP:20260423T114243
CREATED:20231004T152620Z
LAST-MODIFIED:20231004T152620Z
UID:5068-1725996000-1726000200@www.stopsleystriders.org.uk
SUMMARY:Tuesday Track Coached Session for all abilities
DESCRIPTION:Cost per session £3. There will be no refunds if you can‘t attend.Payment is collected on Spond (when this session becomes available)\nPlease maintain social distancing.\nNo ICE Card\, No Session.\nWarm up and cool down are included in track sessions.\nThe coach cannot hold anything for you.\nPlease do not attend if you have COVID-19 symptoms or have been told to isolate.
URL:https://www.stopsleystriders.org.uk/event/tuesday-track-coached-session-for-all-abilities-120/
LOCATION:Stockwood Park\, United Kingdom
CATEGORIES:Track
END:VEVENT
BEGIN:VEVENT
DTSTART;TZID=Europe/London:20240903T192000
DTEND;TZID=Europe/London:20240903T203000
DTSTAMP:20260423T114243
CREATED:20231004T152620Z
LAST-MODIFIED:20231004T152620Z
UID:5067-1725391200-1725395400@www.stopsleystriders.org.uk
SUMMARY:Tuesday Track Coached Session for all abilities
DESCRIPTION:Cost per session £3. There will be no refunds if you can‘t attend.Payment is collected on Spond (when this session becomes available)\nPlease maintain social distancing.\nNo ICE Card\, No Session.\nWarm up and cool down are included in track sessions.\nThe coach cannot hold anything for you.\nPlease do not attend if you have COVID-19 symptoms or have been told to isolate.
URL:https://www.stopsleystriders.org.uk/event/tuesday-track-coached-session-for-all-abilities-119/
LOCATION:Stockwood Park\, United Kingdom
CATEGORIES:Track
END:VEVENT
BEGIN:VEVENT
DTSTART;TZID=Europe/London:20240827T192000
DTEND;TZID=Europe/London:20240827T203000
DTSTAMP:20260423T114243
CREATED:20231004T152620Z
LAST-MODIFIED:20231004T152620Z
UID:5066-1724786400-1724790600@www.stopsleystriders.org.uk
SUMMARY:Tuesday Track Coached Session for all abilities
DESCRIPTION:Cost per session £3. There will be no refunds if you can‘t attend.Payment is collected on Spond (when this session becomes available)\nPlease maintain social distancing.\nNo ICE Card\, No Session.\nWarm up and cool down are included in track sessions.\nThe coach cannot hold anything for you.\nPlease do not attend if you have COVID-19 symptoms or have been told to isolate.
URL:https://www.stopsleystriders.org.uk/event/tuesday-track-coached-session-for-all-abilities-118/
LOCATION:Stockwood Park\, United Kingdom
CATEGORIES:Track
END:VEVENT
BEGIN:VEVENT
DTSTART;TZID=Europe/London:20240820T192000
DTEND;TZID=Europe/London:20240820T203000
DTSTAMP:20260423T114243
CREATED:20231004T152606Z
LAST-MODIFIED:20231004T152606Z
UID:5065-1724181600-1724185800@www.stopsleystriders.org.uk
SUMMARY:Tuesday Track Coached Session for all abilities
DESCRIPTION:Cost per session £3. There will be no refunds if you can‘t attend.Payment is collected on Spond (when this session becomes available)\nPlease maintain social distancing.\nNo ICE Card\, No Session.\nWarm up and cool down are included in track sessions.\nThe coach cannot hold anything for you.\nPlease do not attend if you have COVID-19 symptoms or have been told to isolate.
URL:https://www.stopsleystriders.org.uk/event/tuesday-track-coached-session-for-all-abilities-117/
LOCATION:Stockwood Park\, United Kingdom
CATEGORIES:Track
END:VEVENT
END:VCALENDAR